BEGIN:VCALENDAR
PRODID:-//eluceo/ical//2.0/EN
VERSION:2.0
CALSCALE:GREGORIAN
BEGIN:VEVENT
UID:a7a98e5b8fff5506b138591fdfd13bc5
DTSTAMP:20260425T110023Z
SUMMARY:Vandring runt Blockhusudden och Isbladskärret
DESCRIPTION:Talare: Henik Waldenström
URL:https://stockholm-djurgarden.rotary2355.se/sv/agenda/show/215863
DTSTART;TZID=Europe/Zurich:20260417T110000
DTEND;TZID=Europe/Zurich:20260417T133000
LOCATION:Busshållplats Thielska Galleriet
CATEGORIES:Rotary
END:VEVENT
BEGIN:VTIMEZONE
TZID:Europe/Zurich
BEGIN:DAYLIGHT
DTSTART:20260417T110000
TZNAME:CEST
TZOFFSETTO:+0200
TZOFFSETFROM:+0200
END:DAYLIGHT
END:VTIMEZONE
END:VCALENDAR
